BEGIN:VCALENDAR
VERSION:2.0
PRODID:DPCALENDAR
CALSCALE:GREGORIAN
X-WR-TIMEZONE:UTC
BEGIN:VEVENT
DTSTART;VALUE=DATE:20260525
DTEND;VALUE=DATE:20260526
UID:ce628b08088b9343ca2eb550d9f01bf3
SUMMARY:Pinkstermaandag 2026
DTSTAMP:20260420T013525Z
DESCRIPTION:Lees verder op https://www.feestdagen-belgie.be/feestdagen-2026-belgie
X-ALT-DESC;FMTTYPE=text/html:Lees verder op <a href="https://www.feestdagen-belgie.be/feestdagen-2026-belgie">https://www.feestdagen-belgie.be/feestdagen-2026-belgie</a>
X-ACCESS:1
X-MODIFIED:20260420T013525Z
X-HITS:0
X-URL:https://www.google.com/calendar/event?eid=NGYycGtkNm04ZGpuMWNobmlkNjY0N3V2aXYgZmVlc3RkYWdlbmJlbGdpZUBt
X-COLOR:
END:VEVENT
END:VCALENDAR